BEGIN:VCALENDAR
VERSION:2.0
PRODID:-//Healthy Hearts Plus II - ECPv6.15.17.1//NONSGML v1.0//EN
CALSCALE:GREGORIAN
METHOD:PUBLISH
X-ORIGINAL-URL:https://www.healthyheartsplus2.com/new
X-WR-CALDESC:Events for Healthy Hearts Plus II
REFRESH-INTERVAL;VALUE=DURATION:PT1H
X-Robots-Tag:noindex
X-PUBLISHED-TTL:PT1H
BEGIN:VTIMEZONE
TZID:America/New_York
BEGIN:DAYLIGHT
TZOFFSETFROM:-0500
TZOFFSETTO:-0400
TZNAME:EDT
DTSTART:20240310T070000
END:DAYLIGHT
BEGIN:STANDARD
TZOFFSETFROM:-0400
TZOFFSETTO:-0500
TZNAME:EST
DTSTART:20241103T060000
END:STANDARD
BEGIN:DAYLIGHT
TZOFFSETFROM:-0500
TZOFFSETTO:-0400
TZNAME:EDT
DTSTART:20250309T070000
END:DAYLIGHT
BEGIN:STANDARD
TZOFFSETFROM:-0400
TZOFFSETTO:-0500
TZNAME:EST
DTSTART:20251102T060000
END:STANDARD
BEGIN:DAYLIGHT
TZOFFSETFROM:-0500
TZOFFSETTO:-0400
TZNAME:EDT
DTSTART:20260308T070000
END:DAYLIGHT
BEGIN:STANDARD
TZOFFSETFROM:-0400
TZOFFSETTO:-0500
TZNAME:EST
DTSTART:20261101T060000
END:STANDARD
END:VTIMEZONE
BEGIN:VEVENT
DTSTART;TZID=America/New_York:20250402T053000
DTEND;TZID=America/New_York:20250402T193000
DTSTAMP:20260425T111241
CREATED:20250316T013714Z
LAST-MODIFIED:20250316T013747Z
UID:10186-1743571800-1743622200@www.healthyheartsplus2.com
SUMMARY:8-Week Diabetic Education Classes
DESCRIPTION:Join Us For Our 8-Week Diabetic Education Classes. We Provide:  Nutrition Education via Telemedicine. Physical Activity (Exercise/Sit & Fit). Stress Relief (Breath of Life) via Telemedicine. Weekly FOOD IS MEDICINE Pick-Ups On Thursdays\, With Healthy Recipe Cards Recipes\, Wellness Tips\, Resources & Health Calendar Length of the program. \nClasses Begin: Wednesday\, April 2nd\, 2025 5:30 p.m. to 7:30 p.m. For more information please call: (804) 200-3139
URL:https://www.healthyheartsplus2.com/new/event/8-week-diabetic-education-classes/
LOCATION:Virtual
ATTACH;FMTTYPE=image/jpeg:https://www.healthyheartsplus2.com/new/wp-content/uploads/2025/03/April2025DiabeticCohortProof.jpg
END:VEVENT
BEGIN:VEVENT
DTSTART;TZID=America/New_York:20250308T150000
DTEND;TZID=America/New_York:20250308T190000
DTSTAMP:20260425T111241
CREATED:20250305T201158Z
LAST-MODIFIED:20250305T201158Z
UID:10171-1741446000-1741460400@www.healthyheartsplus2.com
SUMMARY:'Bringing In Da Spirit': A Documentary Of The Black Midwives Of The South
DESCRIPTION:BLACK EXCELLENCE EXHIBITION 2025: AFROFUTURISM\n\n\n\n\n\n\n\n\nBRINGING IN DA SPIRIT\n\n\n\n\n\n\n\n\nA Documentary of the Black Midwives of the South \nPresented by Mother of Civilization & United Black Birth Collective \n\n\nDate: SATURDAY\, MARCH 8\, 2025 \n\n\nTime: 3:00 – 7:00 PM \n\n\nLocation: Petersburg Community Resiliency Hub\, 464 Byrne St\, Petersburg\, VA 23804 \n\n\nJoin us for a powerful documentary screening and panel discussion on Bringing in Da Spirit\, directed by Rhonda Haynes. This film explores the legacy of Black midwives in the South and highlights their essential role in our communities. \nTickets: \n$20.00 per ticket on Eventbrite \n$25.00 per ticket at the door \n\n\n\n\n\n\n\n\nFood Available for Purchase. \nVending opportunities are available. Please contact (804) 253-7082 for more details. \nCome join the discussion as we examine the community midwife’s significant contributions. \nFor more information\, visit Eventbrite website or scan the QR code on the flyer. \n\n\n\n\n\n\n\n\n\n 
URL:https://www.healthyheartsplus2.com/new/event/bringing-in-da-spirit-a-documentary-of-the-black-midwives-of-the-south/
LOCATION:Petersburg Community Resiliency Hub\, 464 Byrne St\, Petersburg\, VA\, 23804\, United States
ATTACH;FMTTYPE=image/jpeg:https://www.healthyheartsplus2.com/new/wp-content/uploads/2025/03/Untitled-design.jpg
END:VEVENT
END:VCALENDAR